BEGIN:VCALENDAR
VERSION:2.0
PRODID:-//Circus Saints &amp; Sinners - ECPv6.15.17//NONSGML v1.0//EN
CALSCALE:GREGORIAN
METHOD:PUBLISH
X-ORIGINAL-URL:https://mysaintsandsinners.com
X-WR-CALDESC:Events for Circus Saints &amp; Sinners
REFRESH-INTERVAL;VALUE=DURATION:PT1H
X-Robots-Tag:noindex
X-PUBLISHED-TTL:PT1H
BEGIN:VTIMEZONE
TZID:America/New_York
BEGIN:DAYLIGHT
TZOFFSETFROM:-0500
TZOFFSETTO:-0400
TZNAME:EDT
DTSTART:20180311T070000
END:DAYLIGHT
BEGIN:STANDARD
TZOFFSETFROM:-0400
TZOFFSETTO:-0500
TZNAME:EST
DTSTART:20181104T060000
END:STANDARD
BEGIN:DAYLIGHT
TZOFFSETFROM:-0500
TZOFFSETTO:-0400
TZNAME:EDT
DTSTART:20190310T070000
END:DAYLIGHT
BEGIN:STANDARD
TZOFFSETFROM:-0400
TZOFFSETTO:-0500
TZNAME:EST
DTSTART:20191103T060000
END:STANDARD
BEGIN:DAYLIGHT
TZOFFSETFROM:-0500
TZOFFSETTO:-0400
TZNAME:EDT
DTSTART:20200308T070000
END:DAYLIGHT
BEGIN:STANDARD
TZOFFSETFROM:-0400
TZOFFSETTO:-0500
TZNAME:EST
DTSTART:20201101T060000
END:STANDARD
END:VTIMEZONE
BEGIN:VEVENT
DTSTART;VALUE=DATE:20190530
DTEND;VALUE=DATE:20190603
DTSTAMP:20260423T105259
CREATED:20190531T042610Z
LAST-MODIFIED:20190531T042610Z
UID:981-1559174400-1559519999@mysaintsandsinners.com
SUMMARY:National Board of Directors Meeting
DESCRIPTION:Join the saintliest bunch of sinners around for the Circus Saints & Sinners Club of America National Convention on beautiful Lake Erie! Enjoy food\, fun and fellowship while seeing our very own Chuck Wallace inaugurated as national president! \nRegistration:\nFull: $100.00\nBanquet Only: $60.00 \nHosted by the Dan Rice Tent\nContact Gary Gnancinski at 814-490-0729 for details.
URL:https://mysaintsandsinners.com/event/national-board-of-directors-meeting-2019/
LOCATION:Sheraton Erie Bayfront Hotel\, 55 West Bay Drive\, Erie\, PA
CATEGORIES:Meetings
ATTACH;FMTTYPE=image/jpeg:https://mysaintsandsinners.com/wp-content/uploads/2019/05/erisi-exterior-2140-hor-wide.jpg
END:VEVENT
END:VCALENDAR