BEGIN:VCALENDAR
VERSION:2.0
PRODID:-//Circus Saints &amp; Sinners - ECPv6.15.17//NONSGML v1.0//EN
CALSCALE:GREGORIAN
METHOD:PUBLISH
X-ORIGINAL-URL:https://mysaintsandsinners.com
X-WR-CALDESC:Events for Circus Saints &amp; Sinners
REFRESH-INTERVAL;VALUE=DURATION:PT1H
X-Robots-Tag:noindex
X-PUBLISHED-TTL:PT1H
BEGIN:VTIMEZONE
TZID:America/New_York
BEGIN:DAYLIGHT
TZOFFSETFROM:-0500
TZOFFSETTO:-0400
TZNAME:EDT
DTSTART:20180311T070000
END:DAYLIGHT
BEGIN:STANDARD
TZOFFSETFROM:-0400
TZOFFSETTO:-0500
TZNAME:EST
DTSTART:20181104T060000
END:STANDARD
BEGIN:DAYLIGHT
TZOFFSETFROM:-0500
TZOFFSETTO:-0400
TZNAME:EDT
DTSTART:20190310T070000
END:DAYLIGHT
BEGIN:STANDARD
TZOFFSETFROM:-0400
TZOFFSETTO:-0500
TZNAME:EST
DTSTART:20191103T060000
END:STANDARD
BEGIN:DAYLIGHT
TZOFFSETFROM:-0500
TZOFFSETTO:-0400
TZNAME:EDT
DTSTART:20200308T070000
END:DAYLIGHT
BEGIN:STANDARD
TZOFFSETFROM:-0400
TZOFFSETTO:-0500
TZNAME:EST
DTSTART:20201101T060000
END:STANDARD
END:VTIMEZONE
BEGIN:VEVENT
DTSTART;TZID=America/New_York:20190814T180000
DTEND;TZID=America/New_York:20190814T180000
DTSTAMP:20260423T053432
CREATED:20181110T175430Z
LAST-MODIFIED:20181206T213800Z
UID:736-1565805600-1565805600@mysaintsandsinners.com
SUMMARY:Brewfest Planning Meeting
DESCRIPTION:As we make final preparations for the Mountaineer Brewfest\, and in order to better serve the Brewfest attendees\, we will be joined by several of the participating craft beer vendors for an educational beer-tasting of the festival’s featured brews.
URL:https://mysaintsandsinners.com/event/brewfest-planning-meeting-2019/
LOCATION:Generations Restaurant & Pub\, 338 National Road\, Wheeling\, WV
CATEGORIES:Meetings
ATTACH;FMTTYPE=image/jpeg:https://mysaintsandsinners.com/wp-content/uploads/2018/06/generations.jpg
ORGANIZER;CN="Hosted by Jeff Yourkovich / Jeff Hayes":MAILTO:yorkcpa@comcast.net
END:VEVENT
END:VCALENDAR