BEGIN:VCALENDAR
VERSION:2.0
PRODID:-//Circus Saints &amp; Sinners - ECPv6.15.17//NONSGML v1.0//EN
CALSCALE:GREGORIAN
METHOD:PUBLISH
X-ORIGINAL-URL:https://mysaintsandsinners.com
X-WR-CALDESC:Events for Circus Saints &amp; Sinners
REFRESH-INTERVAL;VALUE=DURATION:PT1H
X-Robots-Tag:noindex
X-PUBLISHED-TTL:PT1H
BEGIN:VTIMEZONE
TZID:America/New_York
BEGIN:DAYLIGHT
TZOFFSETFROM:-0500
TZOFFSETTO:-0400
TZNAME:EDT
DTSTART:20190310T070000
END:DAYLIGHT
BEGIN:STANDARD
TZOFFSETFROM:-0400
TZOFFSETTO:-0500
TZNAME:EST
DTSTART:20191103T060000
END:STANDARD
BEGIN:DAYLIGHT
TZOFFSETFROM:-0500
TZOFFSETTO:-0400
TZNAME:EDT
DTSTART:20200308T070000
END:DAYLIGHT
BEGIN:STANDARD
TZOFFSETFROM:-0400
TZOFFSETTO:-0500
TZNAME:EST
DTSTART:20201101T060000
END:STANDARD
BEGIN:DAYLIGHT
TZOFFSETFROM:-0500
TZOFFSETTO:-0400
TZNAME:EDT
DTSTART:20210314T070000
END:DAYLIGHT
BEGIN:STANDARD
TZOFFSETFROM:-0400
TZOFFSETTO:-0500
TZNAME:EST
DTSTART:20211107T060000
END:STANDARD
END:VTIMEZONE
BEGIN:VEVENT
DTSTART;TZID=America/New_York:20200812T180000
DTEND;TZID=America/New_York:20200812T180000
DTSTAMP:20260422T090017
CREATED:20200218T231045Z
LAST-MODIFIED:20200813T152622Z
UID:1209-1597255200-1597255200@mysaintsandsinners.com
SUMMARY:Brewfest Planning Meeting - CANCELED
DESCRIPTION:As we make final preparations for the Mountaineer Brewfest\, and in order to better serve the Brewfest attendees\, we will be joined by several of the participating craft beer vendors for an educational beer-tasting of the festival’s featured brews.
URL:https://mysaintsandsinners.com/event/brewfest-planning-meeting-2020/
LOCATION:Generations Restaurant & Pub\, 338 National Road\, Wheeling\, WV
CATEGORIES:Meetings
ATTACH;FMTTYPE=image/jpeg:https://mysaintsandsinners.com/wp-content/uploads/2018/06/generations.jpg
ORGANIZER;CN="Hosted by Jeff Yourkovich / Jeff Hayes":MAILTO:yorkcpa@comcast.net
END:VEVENT
BEGIN:VEVENT
DTSTART;TZID=America/New_York:20200820T180000
DTEND;TZID=America/New_York:20200820T230000
DTSTAMP:20260422T090017
CREATED:20200218T230755Z
LAST-MODIFIED:20200813T152412Z
UID:1207-1597946400-1597964400@mysaintsandsinners.com
SUMMARY:Tent Meeting & Sinners Olympics
DESCRIPTION:Enjoy tasty food and good times including our 2nd Annual “Sinners Olympics!” Come get your competition on and play disc golf and other serious and not-so-serious games with the Circus Saints and Sinners. \nCost is $20 for guests and partially-paid members and includes dinner and limited bar. There is no cost to fully-paid members. Tent meetings are for members and invited guests only and are not open to the public.
URL:https://mysaintsandsinners.com/event/tent-meeting-aug-2020/
LOCATION:Bethlehem Community Park\, 52 Oak Drive Circle\, Wheeling\, WV\, 26003
CATEGORIES:Meetings
ATTACH;FMTTYPE=image/png:https://mysaintsandsinners.com/wp-content/uploads/2020/02/Bethlehem-Community-Park.png
ORGANIZER;CN="Hosted by Tom Namack":MAILTO:islandblaster90@gmail.com
END:VEVENT
END:VCALENDAR