BEGIN:VCALENDAR
VERSION:2.0
PRODID:-//Circus Saints &amp; Sinners - ECPv6.15.17//NONSGML v1.0//EN
CALSCALE:GREGORIAN
METHOD:PUBLISH
X-WR-CALNAME:Circus Saints &amp; Sinners
X-ORIGINAL-URL:https://mysaintsandsinners.com
X-WR-CALDESC:Events for Circus Saints &amp; Sinners
REFRESH-INTERVAL;VALUE=DURATION:PT1H
X-Robots-Tag:noindex
X-PUBLISHED-TTL:PT1H
BEGIN:VTIMEZONE
TZID:America/New_York
BEGIN:DAYLIGHT
TZOFFSETFROM:-0500
TZOFFSETTO:-0400
TZNAME:EDT
DTSTART:20190310T070000
END:DAYLIGHT
BEGIN:STANDARD
TZOFFSETFROM:-0400
TZOFFSETTO:-0500
TZNAME:EST
DTSTART:20191103T060000
END:STANDARD
BEGIN:DAYLIGHT
TZOFFSETFROM:-0500
TZOFFSETTO:-0400
TZNAME:EDT
DTSTART:20200308T070000
END:DAYLIGHT
BEGIN:STANDARD
TZOFFSETFROM:-0400
TZOFFSETTO:-0500
TZNAME:EST
DTSTART:20201101T060000
END:STANDARD
BEGIN:DAYLIGHT
TZOFFSETFROM:-0500
TZOFFSETTO:-0400
TZNAME:EDT
DTSTART:20210314T070000
END:DAYLIGHT
BEGIN:STANDARD
TZOFFSETFROM:-0400
TZOFFSETTO:-0500
TZNAME:EST
DTSTART:20211107T060000
END:STANDARD
END:VTIMEZONE
BEGIN:VEVENT
DTSTART;TZID=America/New_York:20200923T180000
DTEND;TZID=America/New_York:20200923T180000
DTSTAMP:20260422T072151
CREATED:20200218T224520Z
LAST-MODIFIED:20200813T155337Z
UID:1199-1600884000-1600884000@mysaintsandsinners.com
SUMMARY:Tent Meeting & Bocce Tournament
DESCRIPTION:Come out to one of our best meetings of the year! Enjoy the Sons of Italy’s famous spaghetti dinner with their homemade sausage and meatballs. Our annual bocce tournament follows. \nThis is a great meeting to invite a prospective member to. Cost is $20 for guests and partially-paid members and includes dinner and limited bar. There is no cost to fully-paid members. Tent meetings are for members and invited guests only and are not open to the public.
URL:https://mysaintsandsinners.com/event/tent-meeting-sept-2020/
LOCATION:Sons of Italy\, 3348 Belmont Street\, Bellaire\, OH\, 43906
CATEGORIES:Meetings
ATTACH;FMTTYPE=image/jpeg:https://mysaintsandsinners.com/wp-content/uploads/2018/06/bocce-e1527986225591.jpg
ORGANIZER;CN="Hosted by Mike LaHood":MAILTO:mike@itstire.com
END:VEVENT
END:VCALENDAR