BEGIN:VCALENDAR
VERSION:2.0
PRODID:-//Circus Saints &amp; Sinners - ECPv6.15.17//NONSGML v1.0//EN
CALSCALE:GREGORIAN
METHOD:PUBLISH
X-ORIGINAL-URL:https://mysaintsandsinners.com
X-WR-CALDESC:Events for Circus Saints &amp; Sinners
REFRESH-INTERVAL;VALUE=DURATION:PT1H
X-Robots-Tag:noindex
X-PUBLISHED-TTL:PT1H
BEGIN:VTIMEZONE
TZID:America/New_York
BEGIN:DAYLIGHT
TZOFFSETFROM:-0500
TZOFFSETTO:-0400
TZNAME:EDT
DTSTART:20170312T070000
END:DAYLIGHT
BEGIN:STANDARD
TZOFFSETFROM:-0400
TZOFFSETTO:-0500
TZNAME:EST
DTSTART:20171105T060000
END:STANDARD
BEGIN:DAYLIGHT
TZOFFSETFROM:-0500
TZOFFSETTO:-0400
TZNAME:EDT
DTSTART:20180311T070000
END:DAYLIGHT
BEGIN:STANDARD
TZOFFSETFROM:-0400
TZOFFSETTO:-0500
TZNAME:EST
DTSTART:20181104T060000
END:STANDARD
BEGIN:DAYLIGHT
TZOFFSETFROM:-0500
TZOFFSETTO:-0400
TZNAME:EDT
DTSTART:20190310T070000
END:DAYLIGHT
BEGIN:STANDARD
TZOFFSETFROM:-0400
TZOFFSETTO:-0500
TZNAME:EST
DTSTART:20191103T060000
END:STANDARD
END:VTIMEZONE
BEGIN:VEVENT
DTSTART;TZID=America/New_York:20180818T160000
DTEND;TZID=America/New_York:20180818T220000
DTSTAMP:20260425T122108
CREATED:20180602T173312Z
LAST-MODIFIED:20180614T183340Z
UID:268-1534608000-1534629600@mysaintsandsinners.com
SUMMARY:Mountaineer Brewfest
DESCRIPTION:The Saints & Sinners are proud to once again be an integral part of the Mountaineer Brewfest. After spending most of the year in front of the bar\, we roll up our sleeves and serve from the other side as we manage the beer garden for the event. All tips and matching donations benefit the Upper Ohio Valley Sexual Assault Help Center.
URL:https://mysaintsandsinners.com/event/mountaineer-brewfest/
LOCATION:Heritage Port\, 1201 Water Street\, Wheeling\, WV
CATEGORIES:Community,Fundraiser,Party
ATTACH;FMTTYPE=image/jpeg:https://mysaintsandsinners.com/wp-content/uploads/2018/06/Moutaineer-Brewfest-1.jpg
END:VEVENT
END:VCALENDAR