BEGIN:VCALENDAR
VERSION:2.0
PRODID:-//Circus Saints &amp; Sinners - ECPv6.15.17//NONSGML v1.0//EN
CALSCALE:GREGORIAN
METHOD:PUBLISH
X-ORIGINAL-URL:https://mysaintsandsinners.com
X-WR-CALDESC:Events for Circus Saints &amp; Sinners
REFRESH-INTERVAL;VALUE=DURATION:PT1H
X-Robots-Tag:noindex
X-PUBLISHED-TTL:PT1H
BEGIN:VTIMEZONE
TZID:America/New_York
BEGIN:DAYLIGHT
TZOFFSETFROM:-0500
TZOFFSETTO:-0400
TZNAME:EDT
DTSTART:20180311T070000
END:DAYLIGHT
BEGIN:STANDARD
TZOFFSETFROM:-0400
TZOFFSETTO:-0500
TZNAME:EST
DTSTART:20181104T060000
END:STANDARD
BEGIN:DAYLIGHT
TZOFFSETFROM:-0500
TZOFFSETTO:-0400
TZNAME:EDT
DTSTART:20190310T070000
END:DAYLIGHT
BEGIN:STANDARD
TZOFFSETFROM:-0400
TZOFFSETTO:-0500
TZNAME:EST
DTSTART:20191103T060000
END:STANDARD
BEGIN:DAYLIGHT
TZOFFSETFROM:-0500
TZOFFSETTO:-0400
TZNAME:EDT
DTSTART:20200308T070000
END:DAYLIGHT
BEGIN:STANDARD
TZOFFSETFROM:-0400
TZOFFSETTO:-0500
TZNAME:EST
DTSTART:20201101T060000
END:STANDARD
END:VTIMEZONE
BEGIN:VEVENT
DTSTART;TZID=America/New_York:20190608T180000
DTEND;TZID=America/New_York:20190608T230000
DTSTAMP:20260424T190745
CREATED:20181219T043316Z
LAST-MODIFIED:20190507T182149Z
UID:757-1560016800-1560034800@mysaintsandsinners.com
SUMMARY:Party in the Park
DESCRIPTION:It’s the SUMMER KICKOFF PARTY you’ve been waiting for – the 13th Annual PARTY IN THE PARK! \nJoin the Circus Saints & Sinners as we bring the theatrical power pop rock band The M-80s to Oglebay’s Levenson Shelter for a raucous night of fabulous food\, fun and unforgettable good times! \nJoin hundreds of your closest friends as The M-80s light up the night with their high energy\, visually stunning stage show while playing the very best music of the most decadent decade. \nEnjoy a fantastic menu from Ruttenbuck’s Grill & Bar including: \n–Ruttenbuck’s Award-Winning BBQ Pulled Pork \n–Grilled Chicken with choice of savory sauces: Honey BBQ\, Ragin’ Cajun\, Spicy Ranch & Garlic Parmesan \n–Rosemary Roasted Potatoes with Peppers & Onions \n–Garlic Roasted Brussel Sprouts with Bacon & Parmesan Cheese. \n–Mexican Street Corn on the Cob \n–Dinner Rolls & Butter \nCOST: $30 – includes food\, soft drinks and FREE beer. \nTICKETS: In addition to Eventbrite\, tickets are available by calling/texting 304-281-8319. You can also purchase directly at Pickles Eatery & Bar and Main Street Bank locations in downtown Wheeling\, Elm Grove and Moundsville. \nBenefits the Circus Saints & Sinners 90 for 90 Campaign
URL:https://mysaintsandsinners.com/event/party-in-the-park-2019/
LOCATION:Oglebay Park\, Levenson Shelter\, 465 Lodge Drive\, Wheeling\, WV
CATEGORIES:Community,Fundraiser,Party
ATTACH;FMTTYPE=image/jpeg:https://mysaintsandsinners.com/wp-content/uploads/2018/12/2019-Party-in-the-Park-Poster-facebook.jpg
ORGANIZER;CN="Chaired by Paul Smith":MAILTO:psmith@smith.net
END:VEVENT
END:VCALENDAR