BEGIN:VCALENDAR
VERSION:2.0
PRODID:-//Circus Saints &amp; Sinners - ECPv6.15.17//NONSGML v1.0//EN
CALSCALE:GREGORIAN
METHOD:PUBLISH
X-ORIGINAL-URL:https://mysaintsandsinners.com
X-WR-CALDESC:Events for Circus Saints &amp; Sinners
REFRESH-INTERVAL;VALUE=DURATION:PT1H
X-Robots-Tag:noindex
X-PUBLISHED-TTL:PT1H
BEGIN:VTIMEZONE
TZID:America/New_York
BEGIN:DAYLIGHT
TZOFFSETFROM:-0500
TZOFFSETTO:-0400
TZNAME:EDT
DTSTART:20190310T070000
END:DAYLIGHT
BEGIN:STANDARD
TZOFFSETFROM:-0400
TZOFFSETTO:-0500
TZNAME:EST
DTSTART:20191103T060000
END:STANDARD
BEGIN:DAYLIGHT
TZOFFSETFROM:-0500
TZOFFSETTO:-0400
TZNAME:EDT
DTSTART:20200308T070000
END:DAYLIGHT
BEGIN:STANDARD
TZOFFSETFROM:-0400
TZOFFSETTO:-0500
TZNAME:EST
DTSTART:20201101T060000
END:STANDARD
BEGIN:DAYLIGHT
TZOFFSETFROM:-0500
TZOFFSETTO:-0400
TZNAME:EDT
DTSTART:20210314T070000
END:DAYLIGHT
BEGIN:STANDARD
TZOFFSETFROM:-0400
TZOFFSETTO:-0500
TZNAME:EST
DTSTART:20211107T060000
END:STANDARD
END:VTIMEZONE
BEGIN:VEVENT
DTSTART;TZID=America/New_York:20200926T120000
DTEND;TZID=America/New_York:20200926T230000
DTSTAMP:20260423T165759
CREATED:20200218T231837Z
LAST-MODIFIED:20200219T141310Z
UID:1213-1601121600-1601161200@mysaintsandsinners.com
SUMMARY:Oktoberfest
DESCRIPTION:The Saints & Sinners will once again be manning the beer stands at the Centre Market Oktoberfest to benefit the United Way of the Upper Ohio Valley. Come out and enjoy live music\, tasty food vendors and the coldest beer in town! 
URL:https://mysaintsandsinners.com/event/oktoberfest-2020/
LOCATION:Centre Market\, Wheeling\, WV
CATEGORIES:Community,Party
ATTACH;FMTTYPE=image/jpeg:https://mysaintsandsinners.com/wp-content/uploads/2018/06/oktoberfest-1.jpg
ORGANIZER;CN="Chaired by Sam Matheny":MAILTO:sammatheny73@gmail.com
END:VEVENT
END:VCALENDAR