BEGIN:VCALENDAR
VERSION:2.0
PRODID:-//Circus Saints &amp; Sinners - ECPv6.15.17//NONSGML v1.0//EN
CALSCALE:GREGORIAN
METHOD:PUBLISH
X-ORIGINAL-URL:https://mysaintsandsinners.com
X-WR-CALDESC:Events for Circus Saints &amp; Sinners
REFRESH-INTERVAL;VALUE=DURATION:PT1H
X-Robots-Tag:noindex
X-PUBLISHED-TTL:PT1H
BEGIN:VTIMEZONE
TZID:America/New_York
BEGIN:DAYLIGHT
TZOFFSETFROM:-0500
TZOFFSETTO:-0400
TZNAME:EDT
DTSTART:20200308T070000
END:DAYLIGHT
BEGIN:STANDARD
TZOFFSETFROM:-0400
TZOFFSETTO:-0500
TZNAME:EST
DTSTART:20201101T060000
END:STANDARD
BEGIN:DAYLIGHT
TZOFFSETFROM:-0500
TZOFFSETTO:-0400
TZNAME:EDT
DTSTART:20210314T070000
END:DAYLIGHT
BEGIN:STANDARD
TZOFFSETFROM:-0400
TZOFFSETTO:-0500
TZNAME:EST
DTSTART:20211107T060000
END:STANDARD
BEGIN:DAYLIGHT
TZOFFSETFROM:-0500
TZOFFSETTO:-0400
TZNAME:EDT
DTSTART:20220313T070000
END:DAYLIGHT
BEGIN:STANDARD
TZOFFSETFROM:-0400
TZOFFSETTO:-0500
TZNAME:EST
DTSTART:20221106T060000
END:STANDARD
END:VTIMEZONE
BEGIN:VEVENT
DTSTART;TZID=America/New_York:20210710T160000
DTEND;TZID=America/New_York:20210710T220000
DTSTAMP:20260423T003733
CREATED:20210118T162908Z
LAST-MODIFIED:20210304T192354Z
UID:1292-1625932800-1625954400@mysaintsandsinners.com
SUMMARY:Party on the Plaza
DESCRIPTION:The Party in the Park is now the Party on the Plaza! Join the Circus Saints and Sinners at the new location for the Summer’s best party. The Plaza on Market in downtown is the place to be for live music\, food trucks\, and ice-cold adult beverages. \nCOST: $25 and includes soft drinks and adult beverages. \nTICKETS: More detailed ticket Information coming soon. \nBenefits WVU Medicine Children’s Hospital. Sponsorships are available. 
URL:https://mysaintsandsinners.com/event/party-on-the-plaza-2021/
LOCATION:The Plaza on Market\, Wheeling\, WV
CATEGORIES:Community,Fundraiser,Party
ATTACH;FMTTYPE=image/jpeg:https://mysaintsandsinners.com/wp-content/uploads/2020/02/The-Plaza-on-Market.jpg
ORGANIZER;CN="Chaired by Paul Smith":MAILTO:psmith@smith.net
END:VEVENT
END:VCALENDAR