BEGIN:VCALENDAR
VERSION:2.0
PRODID:-//Circus Saints &amp; Sinners - ECPv6.15.17//NONSGML v1.0//EN
CALSCALE:GREGORIAN
METHOD:PUBLISH
X-ORIGINAL-URL:https://mysaintsandsinners.com
X-WR-CALDESC:Events for Circus Saints &amp; Sinners
REFRESH-INTERVAL;VALUE=DURATION:PT1H
X-Robots-Tag:noindex
X-PUBLISHED-TTL:PT1H
BEGIN:VTIMEZONE
TZID:America/New_York
BEGIN:DAYLIGHT
TZOFFSETFROM:-0500
TZOFFSETTO:-0400
TZNAME:EDT
DTSTART:20200308T070000
END:DAYLIGHT
BEGIN:STANDARD
TZOFFSETFROM:-0400
TZOFFSETTO:-0500
TZNAME:EST
DTSTART:20201101T060000
END:STANDARD
BEGIN:DAYLIGHT
TZOFFSETFROM:-0500
TZOFFSETTO:-0400
TZNAME:EDT
DTSTART:20210314T070000
END:DAYLIGHT
BEGIN:STANDARD
TZOFFSETFROM:-0400
TZOFFSETTO:-0500
TZNAME:EST
DTSTART:20211107T060000
END:STANDARD
BEGIN:DAYLIGHT
TZOFFSETFROM:-0500
TZOFFSETTO:-0400
TZNAME:EDT
DTSTART:20220313T070000
END:DAYLIGHT
BEGIN:STANDARD
TZOFFSETFROM:-0400
TZOFFSETTO:-0500
TZNAME:EST
DTSTART:20221106T060000
END:STANDARD
END:VTIMEZONE
BEGIN:VEVENT
DTSTART;TZID=America/New_York:20210821T160000
DTEND;TZID=America/New_York:20210821T220000
DTSTAMP:20260422T230118
CREATED:20210118T170547Z
LAST-MODIFIED:20210118T170547Z
UID:1301-1629561600-1629583200@mysaintsandsinners.com
SUMMARY:Mountaineer Brewfest
DESCRIPTION:The Saints & Sinners are proud to once again be an integral part of the Mountaineer Brewfest. After spending most of the year in front of the bar\, we roll up our sleeves and serve from the other side as we manage the beer garden for the event.
URL:https://mysaintsandsinners.com/event/mountaineer-brewfest-2021/
LOCATION:Heritage Port\, 1201 Water Street\, Wheeling\, WV
CATEGORIES:Community,Fundraiser,Party
ATTACH;FMTTYPE=image/jpeg:https://mysaintsandsinners.com/wp-content/uploads/2018/06/Moutaineer-Brewfest-1.jpg
ORGANIZER;CN="Chaired by Jeff Yourkovich":MAILTO:yorkcpa@comcast.net
END:VEVENT
END:VCALENDAR