BEGIN:VCALENDAR
VERSION:2.0
PRODID:-//Circus Saints &amp; Sinners - ECPv6.15.17//NONSGML v1.0//EN
CALSCALE:GREGORIAN
METHOD:PUBLISH
X-ORIGINAL-URL:https://mysaintsandsinners.com
X-WR-CALDESC:Events for Circus Saints &amp; Sinners
REFRESH-INTERVAL;VALUE=DURATION:PT1H
X-Robots-Tag:noindex
X-PUBLISHED-TTL:PT1H
BEGIN:VTIMEZONE
TZID:America/New_York
BEGIN:DAYLIGHT
TZOFFSETFROM:-0500
TZOFFSETTO:-0400
TZNAME:EDT
DTSTART:20200308T070000
END:DAYLIGHT
BEGIN:STANDARD
TZOFFSETFROM:-0400
TZOFFSETTO:-0500
TZNAME:EST
DTSTART:20201101T060000
END:STANDARD
BEGIN:DAYLIGHT
TZOFFSETFROM:-0500
TZOFFSETTO:-0400
TZNAME:EDT
DTSTART:20210314T070000
END:DAYLIGHT
BEGIN:STANDARD
TZOFFSETFROM:-0400
TZOFFSETTO:-0500
TZNAME:EST
DTSTART:20211107T060000
END:STANDARD
BEGIN:DAYLIGHT
TZOFFSETFROM:-0500
TZOFFSETTO:-0400
TZNAME:EDT
DTSTART:20220313T070000
END:DAYLIGHT
BEGIN:STANDARD
TZOFFSETFROM:-0400
TZOFFSETTO:-0500
TZNAME:EST
DTSTART:20221106T060000
END:STANDARD
END:VTIMEZONE
BEGIN:VEVENT
DTSTART;TZID=America/New_York:20211216T180000
DTEND;TZID=America/New_York:20211216T180000
DTSTAMP:20260422T155737
CREATED:20210118T172641Z
LAST-MODIFIED:20210118T174040Z
UID:1311-1639677600-1639677600@mysaintsandsinners.com
SUMMARY:Tent Meeting & Christmas Party
DESCRIPTION:Join us in celebrating another successful year of helping our friends and neighbors in need and electing our officers for 2022. There will also be a professionally produced slide show highlighting our many successful projects and accomplishments. An enhanced dinner menu will be featured. The annual Christmas party is for all of us “sinners” who once again found ourselves on Santa’s Naughty List. Maybe we’ll finally become “saints” next year!  \nCost is $20 for guests and partially paid members and includes dinner and limited bar. There is no cost to fully paid members. Tent meetings are for members and invited guests only and are not open to the public.
URL:https://mysaintsandsinners.com/event/tent-meeting-christmas-party-2021/
LOCATION:TBD
CATEGORIES:Meetings,Party
ATTACH;FMTTYPE=image/jpeg:https://mysaintsandsinners.com/wp-content/uploads/2021/01/ChristmasParty250px.jpg
ORGANIZER;CN="Hosted by Chuck Hood":MAILTO:chood377@yahoo.com
END:VEVENT
END:VCALENDAR