BEGIN:VCALENDAR
VERSION:2.0
PRODID:-//Circus Saints &amp; Sinners - ECPv6.15.17//NONSGML v1.0//EN
CALSCALE:GREGORIAN
METHOD:PUBLISH
X-ORIGINAL-URL:https://mysaintsandsinners.com
X-WR-CALDESC:Events for Circus Saints &amp; Sinners
REFRESH-INTERVAL;VALUE=DURATION:PT1H
X-Robots-Tag:noindex
X-PUBLISHED-TTL:PT1H
BEGIN:VTIMEZONE
TZID:America/New_York
BEGIN:DAYLIGHT
TZOFFSETFROM:-0500
TZOFFSETTO:-0400
TZNAME:EDT
DTSTART:20210314T070000
END:DAYLIGHT
BEGIN:STANDARD
TZOFFSETFROM:-0400
TZOFFSETTO:-0500
TZNAME:EST
DTSTART:20211107T060000
END:STANDARD
BEGIN:DAYLIGHT
TZOFFSETFROM:-0500
TZOFFSETTO:-0400
TZNAME:EDT
DTSTART:20220313T070000
END:DAYLIGHT
BEGIN:STANDARD
TZOFFSETFROM:-0400
TZOFFSETTO:-0500
TZNAME:EST
DTSTART:20221106T060000
END:STANDARD
BEGIN:DAYLIGHT
TZOFFSETFROM:-0500
TZOFFSETTO:-0400
TZNAME:EDT
DTSTART:20230312T070000
END:DAYLIGHT
BEGIN:STANDARD
TZOFFSETFROM:-0400
TZOFFSETTO:-0500
TZNAME:EST
DTSTART:20231105T060000
END:STANDARD
END:VTIMEZONE
BEGIN:VEVENT
DTSTART;TZID=America/New_York:20221214T180000
DTEND;TZID=America/New_York:20221214T180000
DTSTAMP:20260421T184457
CREATED:20220405T180952Z
LAST-MODIFIED:20220405T180952Z
UID:1478-1671040800-1671040800@mysaintsandsinners.com
SUMMARY:Tent Meeting & Christmas Party
DESCRIPTION:Join us in celebrating another successful year of helping our friends and neighbors in need and electing our officers for 2023. There will also be a professionally produced video highlighting our many successful projects and accomplishments. An enhanced dinner menu will be featured. The annual Christmas party is for all of us “sinners” who once again found ourselves on Santa’s Naughty List. Maybe we’ll finally become “saints” next year! \nCost is $20 for guests and partially paid members and includes dinner and limited bar. There is no cost to fully paid members. Tent meetings are for members and invited guests only and are not open to the public.
URL:https://mysaintsandsinners.com/event/tent-meeting-christmas-party-2022/
LOCATION:Generations Restaurant & Pub\, 338 National Road\, Wheeling\, WV
CATEGORIES:Meetings,Party
ATTACH;FMTTYPE=image/jpeg:https://mysaintsandsinners.com/wp-content/uploads/2021/01/ChristmasParty250px.jpg
ORGANIZER;CN="Hosted by Doug Pell":MAILTO:dpell@mymainstreetbank.com
END:VEVENT
END:VCALENDAR