BEGIN:VCALENDAR
VERSION:2.0
PRODID:-//Circus Saints &amp; Sinners - ECPv6.15.17//NONSGML v1.0//EN
CALSCALE:GREGORIAN
METHOD:PUBLISH
X-ORIGINAL-URL:https://mysaintsandsinners.com
X-WR-CALDESC:Events for Circus Saints &amp; Sinners
REFRESH-INTERVAL;VALUE=DURATION:PT1H
X-Robots-Tag:noindex
X-PUBLISHED-TTL:PT1H
BEGIN:VTIMEZONE
TZID:America/New_York
BEGIN:DAYLIGHT
TZOFFSETFROM:-0500
TZOFFSETTO:-0400
TZNAME:EDT
DTSTART:20170312T070000
END:DAYLIGHT
BEGIN:STANDARD
TZOFFSETFROM:-0400
TZOFFSETTO:-0500
TZNAME:EST
DTSTART:20171105T060000
END:STANDARD
BEGIN:DAYLIGHT
TZOFFSETFROM:-0500
TZOFFSETTO:-0400
TZNAME:EDT
DTSTART:20180311T070000
END:DAYLIGHT
BEGIN:STANDARD
TZOFFSETFROM:-0400
TZOFFSETTO:-0500
TZNAME:EST
DTSTART:20181104T060000
END:STANDARD
BEGIN:DAYLIGHT
TZOFFSETFROM:-0500
TZOFFSETTO:-0400
TZNAME:EDT
DTSTART:20190310T070000
END:DAYLIGHT
BEGIN:STANDARD
TZOFFSETFROM:-0400
TZOFFSETTO:-0500
TZNAME:EST
DTSTART:20191103T060000
END:STANDARD
END:VTIMEZONE
BEGIN:VEVENT
DTSTART;TZID=America/New_York:20180402T180000
DTEND;TZID=America/New_York:20180402T180000
DTSTAMP:20260424T145214
CREATED:20180602T183606Z
LAST-MODIFIED:20180605T001630Z
UID:288-1522692000-1522692000@mysaintsandsinners.com
SUMMARY:Tent Meeting & NCAA Championship
DESCRIPTION:Pickles Eatery & Bar has some of the BEST wings in town! Enjoy them and much more as we plan our many Summer events and watch the NCAA Basketball Championship Game while competing in our own Nerf basketball tournament. \nCost is $20 for guests and partially-paid members and includes dinner and limited bar. There is no cost to fully-paid members. Tent meetings are for members and invited guests only and are not open to the public.
URL:https://mysaintsandsinners.com/event/tent-meeting-apr-2018/
LOCATION:Pickles Eatery & Bar\, 419 Fulton Street\, Wheeling\, WV
CATEGORIES:Meetings
ATTACH;FMTTYPE=image/jpeg:https://mysaintsandsinners.com/wp-content/uploads/2018/06/Pickles-Logo-e1528897789841.jpg
END:VEVENT
END:VCALENDAR