BEGIN:VCALENDAR
VERSION:2.0
PRODID:-//Circus Saints &amp; Sinners - ECPv6.15.17//NONSGML v1.0//EN
CALSCALE:GREGORIAN
METHOD:PUBLISH
X-WR-CALNAME:Circus Saints &amp; Sinners
X-ORIGINAL-URL:https://mysaintsandsinners.com
X-WR-CALDESC:Events for Circus Saints &amp; Sinners
REFRESH-INTERVAL;VALUE=DURATION:PT1H
X-Robots-Tag:noindex
X-PUBLISHED-TTL:PT1H
BEGIN:VTIMEZONE
TZID:America/New_York
BEGIN:DAYLIGHT
TZOFFSETFROM:-0500
TZOFFSETTO:-0400
TZNAME:EDT
DTSTART:20170312T070000
END:DAYLIGHT
BEGIN:STANDARD
TZOFFSETFROM:-0400
TZOFFSETTO:-0500
TZNAME:EST
DTSTART:20171105T060000
END:STANDARD
BEGIN:DAYLIGHT
TZOFFSETFROM:-0500
TZOFFSETTO:-0400
TZNAME:EDT
DTSTART:20180311T070000
END:DAYLIGHT
BEGIN:STANDARD
TZOFFSETFROM:-0400
TZOFFSETTO:-0500
TZNAME:EST
DTSTART:20181104T060000
END:STANDARD
BEGIN:DAYLIGHT
TZOFFSETFROM:-0500
TZOFFSETTO:-0400
TZNAME:EDT
DTSTART:20190310T070000
END:DAYLIGHT
BEGIN:STANDARD
TZOFFSETFROM:-0400
TZOFFSETTO:-0500
TZNAME:EST
DTSTART:20191103T060000
END:STANDARD
END:VTIMEZONE
BEGIN:VEVENT
DTSTART;TZID=America/New_York:20181109T180000
DTEND;TZID=America/New_York:20181109T180000
DTSTAMP:20260424T031128
CREATED:20180602T174436Z
LAST-MODIFIED:20180605T141007Z
UID:279-1541786400-1541786400@mysaintsandsinners.com
SUMMARY:Reverse Raffle
DESCRIPTION:Hot food and cold hard cash can be yours be taking a chance at our annual reverse raffle. Join us at the St. Vincent de Paul Parish Center for a great time for a great cause. Raffle chances are $50. Chances plus dinner and bar are $80. Proceeds benefit the St. John’s Children’s Home. Sponsorships are available. Open to the public.
URL:https://mysaintsandsinners.com/event/reverse-raffle-2018/
LOCATION:St. Vincent de Paul Parish Center\, 2244 Marshall Avenue\, Wheeling\, WV
CATEGORIES:Community,Fundraiser
ATTACH;FMTTYPE=image/jpeg:https://mysaintsandsinners.com/wp-content/uploads/2018/06/Winning-Ticket.jpg
ORGANIZER;CN="Chaired by Doug Pell%2C Jr.":MAILTO:dpell@mymainstreetbank.com
END:VEVENT
END:VCALENDAR